BEGIN:VCALENDAR
VERSION:2.0
PRODID:-//wp-events-plugin.com//7.2.3.1//EN
TZID:America/Chicago
X-WR-TIMEZONE:America/Chicago
BEGIN:VEVENT
UID:123@bdheartland.org
DTSTART;TZID=America/Chicago:20260621T150000
DTEND;TZID=America/Chicago:20260626T110000
DTSTAMP:20260318T125949Z
URL:https://bdheartland.org/events/2026-bleeding-disorders-summer-camp/
SUMMARY:2026 Bleeding Disorders Summer Camp
DESCRIPTION:Registration for 2026 Camp is NOW OPEN!\nGet ready for a week y
 our camper will never forget! Camp is a place where kids and teens with bl
 eeding disorders can build confidence\, learn new skills\, make lifelong f
 riends\, and experience all the magic of summer in a safe\, supportive env
 ironment.\nFrom outdoor adventures to hands-on learning and plenty of laug
 hs along the way\, camp is where memories are made and independence grows.
 \nApplication Deadline of May 19th.\nSecure your camper’s spot today!
 🔗 Register here: \n&nbsp\;
ATTACH;FMTTYPE=image/jpeg:https://bdheartland.org/wp-content/uploads/2025/
 11/Camp-Postcard-Final-2.png
CATEGORIES:Camp
END:VEVENT
BEGIN:VTIMEZONE
TZID:America/Chicago
X-LIC-LOCATION:America/Chicago
BEGIN:DAYLIGHT
DTSTART:20260308T030000
TZOFFSETFROM:-0600
TZOFFSETTO:-0500
TZNAME:CDT
END:DAYLIGHT
END:VTIMEZONE
END:VCALENDAR