BEGIN:VCALENDAR
VERSION:2.0
PRODID:-//wp-events-plugin.com//7.2.3.1//EN
TZID:America/Chicago
X-WR-TIMEZONE:America/Chicago
BEGIN:VEVENT
UID:125@bdheartland.org
DTSTART;TZID=America/Chicago:20260919T080000
DTEND;TZID=America/Chicago:20260919T110000
DTSTAMP:20260303T001052Z
URL:https://bdheartland.org/events/2026-step-right-up-unite-walk/
SUMMARY:2026 Step Right Up Unite Walk
DESCRIPTION:🎪 Step Right Up for the 2026 Bleeding Disorders Unite Walk!\
 n📅 Saturday\, September 19\, 2026📍 Clark Park\, Hiawatha\, Iowa\nMar
 k your calendars and join us for a day of fun\, community\, and purpose as
  we walk together to support individuals and families affected with bleedi
 ng disorders.\n👟 Registration is open!  Tell your friends\, spread th
 e word\, and get ready to walk for a cause that matters.\nSame mission. Ne
 w memories. Step right up and make a difference!\nRegister\n
ATTACH;FMTTYPE=image/jpeg:https://bdheartland.org/wp-content/uploads/2025/
 11/2026-Walk-Save-The-Date-pdf.jpg
CATEGORIES:Fundraiser
LOCATION:Clark Park\, 1198 N 18th Ave\, Hiawatha \, IA\, United States
X-APPLE-STRUCTURED-LOCATION;VALUE=URI;X-ADDRESS=1198 N 18th Ave\, Hiawatha 
 \, IA\, United States;X-APPLE-RADIUS=100;X-TITLE=Clark Park:geo:0,0
END:VEVENT
BEGIN:VTIMEZONE
TZID:America/Chicago
X-LIC-LOCATION:America/Chicago
BEGIN:DAYLIGHT
DTSTART:20260308T030000
TZOFFSETFROM:-0600
TZOFFSETTO:-0500
TZNAME:CDT
END:DAYLIGHT
END:VTIMEZONE
END:VCALENDAR