BEGIN:VCALENDAR
VERSION:2.0
PRODID:-//wp-events-plugin.com//7.2.3.1//EN
TZID:America/Chicago
X-WR-TIMEZONE:America/Chicago
BEGIN:VEVENT
UID:124@bdheartland.org
DTSTART;TZID=America/Chicago:20260829T133000
DTEND;TZID=America/Chicago:20260830T110000
DTSTAMP:20260331T190102Z
URL:https://bdheartland.org/events/adult-retreat-3/
SUMMARY:Adult Retreat
DESCRIPTION:2026 Adult Retreat!\nAre you 18 years or older?Join us for an a
 fternoon filled with education\, connection\, and fun!\nThis retreat offer
 s a wonderful opportunity to engage with others in the bleeding disorders 
 community while enjoying meaningful sessions and social time. The day wrap
 s up with a delicious dinner and a memorable group adventure!\nActivity an
 d hotel accommodations are included with your registration fee.Stay tuned 
 for more details — you won’t want to miss this rejuvenating and empowe
 ring experience!\nLocation and Activity TBD\nRegister Here
ATTACH;FMTTYPE=image/jpeg:https://bdheartland.org/wp-content/uploads/2025/
 11/2026-Adult-Retreat-Save-the-Date-pdf.jpg
CATEGORIES:Retreat
END:VEVENT
BEGIN:VTIMEZONE
TZID:America/Chicago
X-LIC-LOCATION:America/Chicago
BEGIN:DAYLIGHT
DTSTART:20260308T030000
TZOFFSETFROM:-0600
TZOFFSETTO:-0500
TZNAME:CDT
END:DAYLIGHT
END:VTIMEZONE
END:VCALENDAR