BEGIN:VCALENDAR
VERSION:2.0
PRODID:-//wp-events-plugin.com//7.2.3.1//EN
TZID:America/Chicago
X-WR-TIMEZONE:America/Chicago
BEGIN:VEVENT
UID:78@bdheartland.org
DTSTART;TZID=America/Chicago:20241029T183000
DTEND;TZID=America/Chicago:20241029T193000
DTSTAMP:20241015T171122Z
URL:https://bdheartland.org/events/all-copays-count-advocacy-education/
SUMMARY:Patient Empowerment Online Session
DESCRIPTION:Join us as Ray Riordan\, Advocacy Director at HFA\, leads us in
  the advocacy session “From Awareness to Advocacy: Driving Policy Change
  in the Bleeding Disorder Community.”\nIn this dynamic online session\, 
 participants will explore how to transform heightened awareness of bleedin
 g disorders into actionable advocacy efforts that can influence policy cha
 nge. The workshop will focus on empowering individuals with the knowledge 
 and skills necessary to engage effectively with policymakers\, stakeholder
 s\, and the broader community. Participants will gain practical strategies
  for driving advocacy initiatives\, crafting compelling messages\, and nav
 igating the legislative process to create meaningful policy outcomes.\nTue
 sday\, October 29th 6:30-7:30 p.m.  Join the virtual session to learn mo
 re.\nJoin the zoom call
ATTACH;FMTTYPE=image/jpeg:https://bdheartland.org/wp-content/uploads/2024/
 10/Advocacy-Zoom.png
LOCATION:https://us02web.zoom.us/j/87666434212?pwd=Lb5gKoKTJdC0Z60aiqDyY95v
 5zXdQA.1
END:VEVENT
BEGIN:VTIMEZONE
TZID:America/Chicago
X-LIC-LOCATION:America/Chicago
BEGIN:DAYLIGHT
DTSTART:20240310T030000
TZOFFSETFROM:-0600
TZOFFSETTO:-0500
TZNAME:CDT
END:DAYLIGHT
END:VTIMEZONE
END:VCALENDAR