BEGIN:VCALENDAR
VERSION:2.0
PRODID:-//wp-events-plugin.com//7.2.3.1//EN
TZID:America/Chicago
X-WR-TIMEZONE:America/Chicago
BEGIN:VEVENT
UID:130@bdheartland.org
DTSTART;TZID=America/Chicago:20260530T170000
DTEND;TZID=America/Chicago:20260530T220000
DTSTAMP:20260401T140128Z
URL:https://bdheartland.org/events/cornhole-fundraiser-tournament/
SUMMARY:Cornhole Fundraiser Tournament
DESCRIPTION:Cornhole Fundraiser Tournament\nJoin us Saturday May 30th for a
  fun-filled competition where you can raise funds while enjoying a great t
 ime with friends and family.\nGet ready to toss some bags\, show your skil
 ls\, and support a great cause. We can’t wait to see you there!\n\n$40 p
 er team\, 5:00pm registration and bags fly at 6:00pm\, rounders followed b
 y a double elimination bracket\, upper and lower divisions if enough teams
  register\, more details to come as the event comes closer! Stay tuned and
  pre-register today!\nhttps://share.scoreholio.com/dDIM1mHf20b
ATTACH;FMTTYPE=image/jpeg:https://bdheartland.org/wp-content/uploads/2025/
 12/Cornhole-flyer-pdf.jpg
CATEGORIES:Fundraiser
LOCATION:Cobblestone Inn and Suites\, 1900 Lakewood Drive\, Boone\, Iowa\, 
 50036\, United States
X-APPLE-STRUCTURED-LOCATION;VALUE=URI;X-ADDRESS=1900 Lakewood Drive\, Boone
 \, Iowa\, 50036\, United States;X-APPLE-RADIUS=100;X-TITLE=Cobblestone Inn
  and Suites:geo:0,0
END:VEVENT
BEGIN:VTIMEZONE
TZID:America/Chicago
X-LIC-LOCATION:America/Chicago
BEGIN:DAYLIGHT
DTSTART:20260308T030000
TZOFFSETFROM:-0600
TZOFFSETTO:-0500
TZNAME:CDT
END:DAYLIGHT
END:VTIMEZONE
END:VCALENDAR