BEGIN:VCALENDAR
VERSION:2.0
PRODID:-//wp-events-plugin.com//7.2.3.1//EN
TZID:America/Chicago
X-WR-TIMEZONE:America/Chicago
BEGIN:VEVENT
UID:137@bdheartland.org
DTSTART;TZID=America/Chicago:20260531T180000
DTEND;TZID=America/Chicago:20260531T210000
DTSTAMP:20260423T191733Z
URL:https://bdheartland.org/events/csl-behring-top-golf-event/
SUMMARY:CSL Behring Top Golf Event
DESCRIPTION:⛳✨ Dinner. Education. TopGolf. ✨⛳\nJoin us for an excit
 ing evening of connection\, learning\, and fun at the CSL Behring Top Golf
  Experience!\n🍽️ Dinner📚 Educational Program🏌️ TopGolf Fun\n
 🗓️ June 31st | 6–9 PM⚠️ Space is limited—don’t wait!\n👉 
 REGISTER HERE\n
ATTACH;FMTTYPE=image/jpeg:https://bdheartland.org/wp-content/uploads/2026/
 04/CSL-Top-Golf-May-31-2026-pdf.jpg
CATEGORIES:Dinner
END:VEVENT
BEGIN:VTIMEZONE
TZID:America/Chicago
X-LIC-LOCATION:America/Chicago
BEGIN:DAYLIGHT
DTSTART:20260308T030000
TZOFFSETFROM:-0600
TZOFFSETTO:-0500
TZNAME:CDT
END:DAYLIGHT
END:VTIMEZONE
END:VCALENDAR