BEGIN:VCALENDAR
VERSION:2.0
PRODID:-//wp-events-plugin.com//7.2.3.1//EN
TZID:America/Chicago
X-WR-TIMEZONE:America/Chicago
BEGIN:VEVENT
UID:128@bdheartland.org
DTSTART;TZID=America/Chicago:20260812T000000
DTEND;TZID=America/Chicago:20260816T000000
DTSTAMP:20251217T212513Z
URL:https://bdheartland.org/events/national-event-nbdf-2026-bdc/
SUMMARY:National Event-NBDF-2026 BDC
DESCRIPTION:National Bleeding Disorders Foundation (NBDF) – National Even
 t📅 August 12–16\nThe National Bleeding Disorders Foundation (NBDF) Na
 tional Event brings together individuals\, families\, and advocates from a
 cross the country for education\, resources\, and connection within the bl
 eeding disorders community.\nThis is an optional national event\, and regi
 stration and travel costs are the responsibility of the attendee. Bleeding
  Disorders of the Heartland (BDH) offers a small travel stipend for indivi
 duals who attend.\nFor full event details and registration information\, v
 isit bleeding.org.\nPlease reach out if you have questions or would like m
 ore information about BDH travel support.
END:VEVENT
BEGIN:VTIMEZONE
TZID:America/Chicago
X-LIC-LOCATION:America/Chicago
BEGIN:DAYLIGHT
DTSTART:20260308T030000
TZOFFSETFROM:-0600
TZOFFSETTO:-0500
TZNAME:CDT
END:DAYLIGHT
END:VTIMEZONE
END:VCALENDAR