BEGIN:VCALENDAR
VERSION:2.0
PRODID:-//wp-events-plugin.com//7.2.3.1//EN
TZID:America/Chicago
X-WR-TIMEZONE:America/Chicago
BEGIN:VEVENT
UID:129@bdheartland.org
DTSTART;TZID=America/Chicago:20260810T090000
DTEND;TZID=America/Chicago:20260810T160000
DTSTAMP:20260408T235848Z
URL:https://bdheartland.org/events/tee-it-up-for-bleeding-disorders-2026-g
 olf-event/
SUMMARY:Tee It Up for Bleeding Disorders 2026 Golf Event
DESCRIPTION:Tee It Up for Bleeding Disorders – 2026 Golf Fundraiser (QC A
 rea)📅 August 10\, 2026\nMark your calendar for our 2026 Tee It Up for B
 leeding Disorders golf fundraiser in the Quad Cities area! We’re excited
  to share that Pro Golfer Perry Parker will be attending—so start gettin
 g your team ready.\n⛳ Team sign-ups coming soon! \nInterested in sponso
 ring\, or know a local business that may want to support this event? Pleas
 e reach out to Brooke at bdh_director@bdheartland.org.
ATTACH;FMTTYPE=image/jpeg:https://bdheartland.org/wp-content/uploads/2025/
 12/2026-Non-Industry-Golf-Event-1.png
CATEGORIES:Fundraiser
LOCATION:Emeis Golf Course\, 4500 W Central Park Ave\, Davenport\, Iowa\, 5
 2807\, United States
X-APPLE-STRUCTURED-LOCATION;VALUE=URI;X-ADDRESS=4500 W Central Park Ave\, D
 avenport\, Iowa\, 52807\, United States;X-APPLE-RADIUS=100;X-TITLE=Emeis G
 olf Course:geo:0,0
END:VEVENT
BEGIN:VTIMEZONE
TZID:America/Chicago
X-LIC-LOCATION:America/Chicago
BEGIN:DAYLIGHT
DTSTART:20260308T030000
TZOFFSETFROM:-0600
TZOFFSETTO:-0500
TZNAME:CDT
END:DAYLIGHT
END:VTIMEZONE
END:VCALENDAR